BEGIN:VCALENDAR
VERSION:2.0
PRODID:-//Discover Brean - ECPv6.15.20//NONSGML v1.0//EN
CALSCALE:GREGORIAN
METHOD:PUBLISH
X-WR-CALNAME:Discover Brean
X-ORIGINAL-URL:https://www.discoverbrean.co.uk
X-WR-CALDESC:Events for Discover Brean
REFRESH-INTERVAL;VALUE=DURATION:PT1H
X-Robots-Tag:noindex
X-PUBLISHED-TTL:PT1H
BEGIN:VTIMEZONE
TZID:UTC
BEGIN:STANDARD
TZOFFSETFROM:+0000
TZOFFSETTO:+0000
TZNAME:UTC
DTSTART:20250101T000000
END:STANDARD
END:VTIMEZONE
BEGIN:VEVENT
DTSTART;TZID=UTC:20261107T190000
DTEND;TZID=UTC:20261107T220000
DTSTAMP:20260424T185447
CREATED:20240404T091332Z
LAST-MODIFIED:20260330T132134Z
UID:10000180-1794078000-1794088800@www.discoverbrean.co.uk
SUMMARY:BRIDGWATER Carnival
DESCRIPTION:Bridgwater Carnival\n                \n\n                                    Saturday\, 7 November 7pm – 10 pm \n                        \n                            \n        \n    \n\n\n\n\n\n    \n        \n    \n\n    \n                    \n                \n                    \n\nExperience the magic of Bridgwater’s Winter Carnival! for a dazzling display of lights and festive fun!\n\n\n\nImmerse yourself in the vibrant tradition of Bridgwater’s Winter Carnival\, one of Europe’s largest illuminated events. Dating back over 150 years\, this annual spectacle commemorates Guy Fawkes’ Night\, drawing crowds from across Somerset and beyond. Picture over 120 illuminated floats winding their way through Bridgwater’s streets\, accompanied by music\, dance\, and community spirit. It’s a cherished part of Somerset’s cultural heritage\, where locals\, visitors\, and carnival clubs come together to celebrate creativity and camaraderie. Don’t miss your chance to be part of this historic event on November 2nd\, 2024. \n\n\n\nBridgwater Carnival Procession route > \n\n\n\nMark Your Calendar: * The next Bridgwater Carnival will be held on Saturday\, November 2nd\, 2024. * Whether you’re a carnival enthusiast or a first-time attendee\, prepare for an unforgettable evening! \n\n\n\nBook Your Accommodation in Brean Sands for a memorable weekend getaway amidst the excitement of Bridgwater’s Winter Carnival! 🎉🏁🌟 \n\n\n                        \n            \n        \n            \n\n\n\n    \n        Events\n    \n\n    \n                    \n                \n                    \n\n        \n            \n                Address\n\n                \n                                                                        Krackers Karaoke & Sports Bar\n                                                                            South Road\,\n                                                                            Brean\,\n                                                                            Somerset\,\n                                                                            TA8 2RD\,
URL:https://www.discoverbrean.co.uk/event/bridgwater-carnival/
ATTACH;FMTTYPE=image/jpeg:https://www.discoverbrean.co.uk/app/uploads/2024/04/Bridgwater-Winter-Carnival.jpg
END:VEVENT
BEGIN:VEVENT
DTSTART;TZID=UTC:20261109T190000
DTEND;TZID=UTC:20261109T220000
DTSTAMP:20260424T185447
CREATED:20240404T084134Z
LAST-MODIFIED:20260330T132034Z
UID:10000179-1794250800-1794261600@www.discoverbrean.co.uk
SUMMARY:BURNHAM-on-Sea Carnival
DESCRIPTION:Burnham-on-Sea Carnival\n                \n\n                                    Monday\, 9 November 7pm – 10 pm \n                        \n                                    \n                                                    BOOK YOUR STAY\n                        \n                                                    Carnival News\n                                            \n                            \n        \n    \n\n\n\n\n\n    \n        \n    \n\n    \n                    \n                \n                    \n\nSomerset’s winter carnivals are vibrant celebrations featuring illuminated floats\, music\, dance\, and community spirit.\n\n\n\nThe Burnham-On-Sea Winter Carnival is a dazzling annual event that lights up the streets of Burnham-on-Sea\, Somerset\, England. \n\n\n\nHere’s what you need to know: \n\n\n\nHistoric Tradition: * Held on the first Monday in November\, this carnival celebrates Guy Fawkes’ Night. * With over 40 sparkling carts\, it’s a cherished part of Somerset’s cultural heritage. \n\n\n\nSpectacular Illumination: * Up to 120 or more illuminated floats parade through the town center streets by night. * These floats showcase intricate designs\, vibrant colors\, and creative themes\, captivating the crowds. \n\n\n\nCommunity Celebration: * Locals\, visitors\, and carnival clubs come together for a night of creativity and camaraderie. * It’s a chance to create lasting memories and experience the magic of Burnham-On-Sea. \n\n\n\nBurnham-On-Sea Carnival Procession: Starts at 7:30pm at the Tesco’s roundabout meandering its way along Love Lane\, Manor Road\, Victoria Street\, High Street finishing on Marine Drive near the Lighthouse pub. \n\n\n\nMark Your Calendar: * The next Burnham-On-Sea Carnival will be held on Monday\, November 4th\, 2024. * Whether you’re a carnival enthusiast or a first-time attendee\, prepare for an unforgettable evening! \n\n\n\nBOOK YOUR STAY in Brean\, wake up to crashing waves\, and immerse yourself in the brilliance of the Burnham-On-Sea Winter Carnival! 🎉🏁🌟 \n\n\n                        \n            \n        \n            \n\n\n\n    \n        Events\n    \n\n    \n                    \n                \n                    \n\n        \n            \n                Address\n\n                \n                                                                        Krackers Karaoke & Sports Bar\n                                                                            South Road\,\n                                                                            Brean\,\n                                                                            Somerset\,\n                                                                            TA8 2RD\,
URL:https://www.discoverbrean.co.uk/event/burnham-on-sea-carnival/
ATTACH;FMTTYPE=image/jpeg:https://www.discoverbrean.co.uk/app/uploads/2024/04/Bridgwater-Winter-Carnival.jpg
END:VEVENT
END:VCALENDAR